BEGIN:VCALENDAR
PRODID:-//eluceo/ical//2.0/EN
VERSION:2.0
CALSCALE:GREGORIAN
BEGIN:VEVENT
UID:95ecf38cee6d5c2194573572996c7cf7
DTSTAMP:20260423T010145Z
SUMMARY:Fruits\, Flowers\, Table Settings\, and the Colors of Wine
DESCRIPTION:Jewish Federation of the Berkshires\nJewish Federation of the B
 erkshires\nhttps://jewishberkshires.org/jewish-federation-of-the-berkshire
 s/fruits-flowers-table-settings-and-the-colors-of-wine-228944\n\nThe Jewis
 h Federation Connecting with Community program presents Fruits\, Flowers\,
  Table Settings\, and the Colors of Wine.  
DTSTART;TZID=America/New_York:20170703T104500
DTEND;TZID=America/New_York:20170703T120000
END:VEVENT
END:VCALENDAR
