BEGIN:VCALENDAR
PRODID:-//eluceo/ical//2.0/EN
VERSION:2.0
CALSCALE:GREGORIAN
BEGIN:VEVENT
UID:f8ed8dfb6c194c2b5206cc7d2e76f791
DTSTAMP:20260421T205708Z
SUMMARY:From Farm to Table Matzah
DESCRIPTION:Jewish Federation of the Berkshires\nJewish Federation of the B
 erkshires\nhttps://jewishberkshires.org/jewish-federation-of-the-berkshire
 s/from-farm-to-table-matzah-380587\n\nModern day story that traces its roo
 ts\, literally and figuratively\, from the  ancestry of the 1800s to Cathy
  Zises farming for matzah.
DTSTART;TZID=America/New_York:20210628T184500
DTEND;TZID=America/New_York:20210628T194500
END:VEVENT
END:VCALENDAR
