BEGIN:VCALENDAR
PRODID:-//eluceo/ical//2.0/EN
VERSION:2.0
CALSCALE:GREGORIAN
BEGIN:VEVENT
UID:fab1f781a5c25fd9afd62877743383c2
DTSTAMP:20260421T065924Z
SUMMARY:Free Family Concert with singer/songwriter Ellen Allard
DESCRIPTION:Jewish Federation of the Berkshires\nJewish Federation of the B
 erkshires\nhttps://jewishberkshires.org/jewish-federation-of-the-berkshire
 s/free-family-concert-with-singersongwriter-ellen-allard-243389\n\nFree fa
 mily concert \n\nMelon bar and ice cream social\n\nwith singer/songwriter 
 and PJ library performer\, Ellen Allard\n\nAll are welcome to help sing in
  the new school year with the CBI Community Hebrew School\n\nSupported by 
 PJ Library\, Jewish Federation and Harold Grinspoon Foundation\n\n \n\n 
DTSTART;TZID=America/New_York:20170911T153000
DTEND;TZID=America/New_York:20170911T170000
END:VEVENT
END:VCALENDAR
