BEGIN:VCALENDAR
PRODID:-//eluceo/ical//2.0/EN
VERSION:2.0
CALSCALE:GREGORIAN
BEGIN:VEVENT
UID:f70444f35f084cbe94bf7f54dad447db
DTSTAMP:20260419T220423Z
SUMMARY:Flexibility Training with Thea Basis
DESCRIPTION:Jewish Federation of the Berkshires\nJewish Federation of the B
 erkshires\nhttps://jewishberkshires.org/jewish-federation-of-the-berkshire
 s/flexibility-training-with-thea-basis---------------------------224040\n\
 nThe Jewish Federation Connecting with Community presents Flexibility Trai
 ning.  Tight\, shortened muscles can affect your joints.  In this class\, 
 learn routines to safely practice at home to keep more limber and reduce s
 tiffness.  
DTSTART;TZID=America/New_York:20180129T104500
DTEND;TZID=America/New_York:20180129T120000
END:VEVENT
END:VCALENDAR
