BEGIN:VCALENDAR
PRODID:-//eluceo/ical//2.0/EN
VERSION:2.0
CALSCALE:GREGORIAN
BEGIN:VEVENT
UID:05cc256d988d534ad68798a78dde1526
DTSTAMP:20260425T014601Z
SUMMARY:Fire On Ice - Outdoor Menorah Ice Carving and Lighting
DESCRIPTION:Jewish Federation of the Berkshires\nJewish Federation of the B
 erkshires\nhttps://jewishberkshires.org/jewish-federation-of-the-berkshire
 s/fire-on-ice-outdoor-menorah-ice-carving-and-lighting-368872\n\nFire On I
 ce - Outdoor Menorah Ice Carving and Lighting\n\n(Parking lot of the Jewis
 h Federation of the Berkshires) \n\n\nWatch as a six foot ice menorah is c
 arved and then illuminated in a traditional candle lighting as ice meets f
 ire in this celebration of the Festival of Lights. Social distancing and m
 asks required. Limited to 50 participants outside BUT you can also enjoy t
 he lighting from the safety of your own vehicle in the parking lot of the 
 Jewish Federation of the Berkshires locate...
DTSTART;TZID=America/New_York:20201213T160000
DTEND;TZID=America/New_York:20201213T180000
END:VEVENT
END:VCALENDAR
