BEGIN:VCALENDAR
PRODID:-//eluceo/ical//2.0/EN
VERSION:2.0
CALSCALE:GREGORIAN
BEGIN:VEVENT
UID:c61a3a92e6633db4fe92819fe980ed25
DTSTAMP:20260422T131524Z
SUMMARY:Filmmaking - The Underground Berkshire Industry
DESCRIPTION:Jewish Federation of the Berkshires\nJewish Federation of the B
 erkshires\nhttps://jewishberkshires.org/jewish-federation-of-the-berkshire
 s/filmmaking-the-underground-berkshire-industry-265276\n\nThe Jewish Feder
 ation Connecting with Community presents "Filmmaking - The Underground Ber
 kshire Industry."
DTSTART;TZID=America/New_York:20180507T104500
DTEND;TZID=America/New_York:20180507T120000
END:VEVENT
END:VCALENDAR
