BEGIN:VCALENDAR
PRODID:-//eluceo/ical//2.0/EN
VERSION:2.0
CALSCALE:GREGORIAN
BEGIN:VEVENT
UID:705203c71179593d42a04ac0ed4c30b9
DTSTAMP:20260424T054533Z
SUMMARY:Film & Candle Lighting - Holocaust Remembrance Day
DESCRIPTION:Jewish Federation of the Berkshires\nJewish Federation of the B
 erkshires\nhttps://jewishberkshires.org/jewish-federation-of-the-berkshire
 s/film-candle-lighting-holocaust-remembrance-day-296573\n\nThey defied the
 ir enemy with the ultimate weapon - the truth!
DTSTART;TZID=America/New_York:20190505T140000
DTEND;TZID=America/New_York:20190505T160000
END:VEVENT
END:VCALENDAR
