BEGIN:VCALENDAR
PRODID:-//eluceo/ical//2.0/EN
VERSION:2.0
CALSCALE:GREGORIAN
BEGIN:VEVENT
UID:a89e0c3e0312b7bfdfeefdd12d2a21ba
DTSTAMP:20260422T084716Z
SUMMARY:Festive Shavuot Meal--Connecting with Community Lunch
DESCRIPTION:Jewish Federation of the Berkshires\nJewish Federation of the B
 erkshires\nhttps://jewishberkshires.org/jewish-federation-of-the-berkshire
 s/festive-shavuot-meal-512011\n\nJoin us for a festive Shavuot lunch celeb
 rating favorite dairy delights including an ice cream sundae bar!\n\nConve
 rsation with a home-cooked kosher lunch around our community table.  All 
 are welcome! \n\nAdvance lunch reservations are required and can be made 
 by calling (413) 442-2200 before 9 a.m. on the day BEFORE the lunch (Wed).
   Suggested donation of $3 for adults over age 60.  $7 for all others.\
 n\nFederation makes these programs possible through the generous support o
 f our commun...
DTSTART;TZID=America/New_York:20260521T120000
DTEND;TZID=America/New_York:20260521T130000
END:VEVENT
END:VCALENDAR
