BEGIN:VCALENDAR
PRODID:-//eluceo/ical//2.0/EN
VERSION:2.0
CALSCALE:GREGORIAN
BEGIN:VEVENT
UID:98499756d9b56bc590c328beeeff0771
DTSTAMP:20260421T024404Z
SUMMARY:Federation Program"QiGong-A Simple\, Natural Exercise to Enhance We
 ll-Being"
DESCRIPTION:Jewish Federation of the Berkshires\nJewish Federation of the B
 erkshires\nhttps://jewishberkshires.org/jewish-federation-of-the-berkshire
 s/federation-programqigong-a-simple-natural-exercise-to-enhance-well-being
 -115226\n\n QiGong - A Simple\, Natural Exercise to Enhance your Well-Bein
 g" with acupuncturist and Qigong instructor\, Jeffrey Gordon
DTSTART;TZID=America/New_York:20150105T130000
DTEND;TZID=America/New_York:20150105T143000
END:VEVENT
END:VCALENDAR
