BEGIN:VCALENDAR
PRODID:-//eluceo/ical//2.0/EN
VERSION:2.0
CALSCALE:GREGORIAN
BEGIN:VEVENT
UID:62e007711a6bc4e59c90fe98d1748e36
DTSTAMP:20260423T104610Z
SUMMARY:Federation program Yom Ha'atzmaut with Rabbi Jan Kaufman
DESCRIPTION:Jewish Federation of the Berkshires\nJewish Federation of the B
 erkshires\nhttps://jewishberkshires.org/jewish-federation-of-the-berkshire
 s/federation-program-yom-haatzmaut-with-rabbi-jan-kaufman-137637\n\n The J
 ewish Federation will host Rabbi Jan Kaufman as she explores some primary 
 foundational documents of the Zionist State.  
DTSTART;TZID=America/New_York:20150423T130000
DTEND;TZID=America/New_York:20150423T143000
END:VEVENT
END:VCALENDAR
