BEGIN:VCALENDAR
PRODID:-//eluceo/ical//2.0/EN
VERSION:2.0
CALSCALE:GREGORIAN
BEGIN:VEVENT
UID:cbf959ab7c314ab8c1c24f1eec24b658
DTSTAMP:20260421T160428Z
SUMMARY:Federation Program "War as Seen by a Jewish Child: A Story Never To
 ld"
DESCRIPTION:Jewish Federation of the Berkshires\nJewish Federation of the B
 erkshires\nhttps://jewishberkshires.org/jewish-federation-of-the-berkshire
 s/federation-program-war-as-seen-by-a-jewish-child-a-story-never-told-1410
 370768-104577\n\nAuthor Enrico Lamet discusses his works
DTSTART;TZID=America/New_York:20140915T130000
DTEND;TZID=America/New_York:20140915T143000
END:VEVENT
END:VCALENDAR
