BEGIN:VCALENDAR
PRODID:-//eluceo/ical//2.0/EN
VERSION:2.0
CALSCALE:GREGORIAN
BEGIN:VEVENT
UID:b4447b6d926597ecb16c478426ece3d7
DTSTAMP:20260420T043807Z
SUMMARY:Federation Program "Paging through the Memories: The Making of a Bo
 ok"
DESCRIPTION:Jewish Federation of the Berkshires\nJewish Federation of the B
 erkshires\nhttps://jewishberkshires.org/jewish-federation-of-the-berkshire
 s/federation-program-paging-through-the-memories-the-making-of-a-book-1375
 62\n\nThe Jewish Federation of the Berkshires presents author\, editor\, a
 nd columnist Jane Kaufman
DTSTART;TZID=America/New_York:20150413T130000
DTEND;TZID=America/New_York:20150413T143000
END:VEVENT
END:VCALENDAR
