BEGIN:VCALENDAR
PRODID:-//eluceo/ical//2.0/EN
VERSION:2.0
CALSCALE:GREGORIAN
BEGIN:VEVENT
UID:8f622dcbf0c7420e97d82e54c69017c9
DTSTAMP:20260422T191209Z
SUMMARY:Federation program "One-act plays and short stories by Jewish autho
 rs"
DESCRIPTION:Jewish Federation of the Berkshires\nJewish Federation of the B
 erkshires\nhttps://jewishberkshires.org/jewish-federation-of-the-berkshire
 s/federation-program-one-act-plays-and-short-stories-by-jewish-authors-140
 462\n\nThe Jewish Federation of the Berkshires presents "One-act Plays and
  Short Stories by Jewish Authors" presented by Macey Levin\, co-founder of
  Aglet and Artistic Director teacher\, lecturer\, and reviewer and Thomas 
 Gruenewald\, director and actor.
DTSTART;TZID=America/New_York:20150514T104500
DTEND;TZID=America/New_York:20150514T120000
END:VEVENT
END:VCALENDAR
