BEGIN:VCALENDAR
PRODID:-//eluceo/ical//2.0/EN
VERSION:2.0
CALSCALE:GREGORIAN
BEGIN:VEVENT
UID:d8812fe67df9271a520b17aa1fbc9846
DTSTAMP:20260420T012103Z
SUMMARY:Federation program Kosher Food and Kavanah
DESCRIPTION:Jewish Federation of the Berkshires\nJewish Federation of the B
 erkshires\nhttps://jewishberkshires.org/jewish-federation-of-the-berkshire
 s/federation-program-kosher-food-and-kavanah-144347\n\nThe Jewish Federati
 on of the Berkshires will present "Kosher Food and Kavanah and How They Me
 et" with Angus Johnson\, founder of Just Good Kosher in Pittsfield. 
DTSTART;TZID=America/New_York:20150615T104500
DTEND;TZID=America/New_York:20150615T120000
END:VEVENT
END:VCALENDAR
