BEGIN:VCALENDAR
PRODID:-//eluceo/ical//2.0/EN
VERSION:2.0
CALSCALE:GREGORIAN
BEGIN:VEVENT
UID:6d369749375fe7f45ed87c584231e411
DTSTAMP:20260420T160712Z
SUMMARY:Federation Program "Hunger and Food Insecurity in Berkshire County"
DESCRIPTION:Jewish Federation of the Berkshires\nJewish Federation of the B
 erkshires\nhttps://jewishberkshires.org/jewish-federation-of-the-berkshire
 s/federation-program-hunger-and-food-insecurity-in-berkshire-county-104687
 \n\nAndrew Morehouse\, Executive Director of the Food Bank of Western MA d
 iscusses hunger and food insecurity across Berkshire County.
DTSTART;TZID=America/New_York:20140922T130000
DTEND;TZID=America/New_York:20140922T143000
END:VEVENT
END:VCALENDAR
