BEGIN:VCALENDAR
PRODID:-//eluceo/ical//2.0/EN
VERSION:2.0
CALSCALE:GREGORIAN
BEGIN:VEVENT
UID:7dafeee669e8c4ed3390a107dc93f011
DTSTAMP:20260422T161546Z
SUMMARY:Federation Program "A Rabbinic Portrait of Sarah"
DESCRIPTION:Jewish Federation of the Berkshires\nJewish Federation of the B
 erkshires\nhttps://jewishberkshires.org/jewish-federation-of-the-berkshire
 s/federation-program-a-rabbinic-portrait-of-sarah-118269\n\n "A Rabbinic P
 ortrait of Sarah" with Rabbi Jan Kaufman
DTSTART;TZID=America/New_York:20141113T130000
DTEND;TZID=America/New_York:20141113T143000
END:VEVENT
END:VCALENDAR
