BEGIN:VCALENDAR
PRODID:-//eluceo/ical//2.0/EN
VERSION:2.0
CALSCALE:GREGORIAN
BEGIN:VEVENT
UID:ee99a57004a450d0c265254e92b7802f
DTSTAMP:20260420T031129Z
SUMMARY:Federation presents QiGong-Simple\, Natural Exercise to Enhance Wel
 l Being 
DESCRIPTION:Jewish Federation of the Berkshires\nJewish Federation of the B
 erkshires\nhttps://jewishberkshires.org/jewish-federation-of-the-berkshire
 s/federation-presents-qigong-simple-natural-exercise-to-enhance-well-being
 -143602\n\n Jewish Federation of the Berkshires presents  "QiGong - A Simp
 le\, Natural Exercise to Enhance your Well-Being" with acupuncturist and Q
 igong instructor\, Jeffrey Gordon.
DTSTART;TZID=America/New_York:20150625T104500
DTEND;TZID=America/New_York:20150625T120000
END:VEVENT
END:VCALENDAR
