BEGIN:VCALENDAR
PRODID:-//eluceo/ical//2.0/EN
VERSION:2.0
CALSCALE:GREGORIAN
BEGIN:VEVENT
UID:3eef1eaf49fc4c5d399b2d1435c73274
DTSTAMP:20260420T184407Z
SUMMARY:Jewish Federation follow-up phone-a-thon for Annual Campaign
DESCRIPTION:Jewish Federation of the Berkshires\nJewish Federation of the B
 erkshires\nhttps://jewishberkshires.org/jewish-federation-of-the-berkshire
 s/federation-follow-up-phone-a-thon-for-annual-campaign------147860\n\nFol
 low-up phone-a-thon
DTSTART;TZID=America/New_York:20170606T183000
DTEND;TZID=America/New_York:20170606T200000
END:VEVENT
END:VCALENDAR
