BEGIN:VCALENDAR
PRODID:-//eluceo/ical//2.0/EN
VERSION:2.0
CALSCALE:GREGORIAN
BEGIN:VEVENT
UID:5b2413b11626e7b8c457fcf6775b12f6
DTSTAMP:20260420T212616Z
SUMMARY:Federation Connecting with Community Program Life & Career of Neil 
 Simon
DESCRIPTION:Jewish Federation of the Berkshires\nJewish Federation of the B
 erkshires\nhttps://jewishberkshires.org/jewish-federation-of-the-berkshire
 s/federation-connecting-with-community-program-life-career-of-neil-simon-1
 48897\n\nThe Jewish Federation of the Berkshires' Connecting with Communit
 y series will be joined by Diane Steinbrink who\, in her own unique style\
 , will explore the life and career of beloved playwright\, Neil Simon\, an
 d explain how his background influenced his plays.  
DTSTART;TZID=America/New_York:20150723T104500
DTEND;TZID=America/New_York:20150723T120000
END:VEVENT
END:VCALENDAR
