BEGIN:VCALENDAR
PRODID:-//eluceo/ical//2.0/EN
VERSION:2.0
CALSCALE:GREGORIAN
BEGIN:VEVENT
UID:a9913c238fbc8f8598ba5ee25dd74caf
DTSTAMP:20260422T032108Z
SUMMARY:Family Tree of Life
DESCRIPTION:Jewish Federation of the Berkshires\nJewish Federation of the B
 erkshires\nhttps://jewishberkshires.org/jewish-federation-of-the-berkshire
 s/family-tree-of-life-357401\n\nCreate a “Family Tree of Life” work of
  art that can express both  honoring and remembering loved ones as well as
  cherishing one’s current family.
DTSTART;TZID=America/New_York:20200827T104500
DTEND;TZID=America/New_York:20200827T114500
END:VEVENT
END:VCALENDAR
