BEGIN:VCALENDAR
PRODID:-//eluceo/ical//2.0/EN
VERSION:2.0
CALSCALE:GREGORIAN
BEGIN:VEVENT
UID:c6ea57ce22f3c87b3b432a596b065119
DTSTAMP:20260422T200030Z
SUMMARY:Families at the Apple Farm at 3pm
DESCRIPTION:Jewish Federation of the Berkshires\nJewish Federation of the B
 erkshires\nhttps://jewishberkshires.org/jewish-federation-of-the-berkshire
 s/families-at-the-apple-farm-at-3-pm-285494\n\nEnjoy the New Year!\n\nPJ L
 ibrary invites families for a special Apple Picking:\n\n3 pm \nWindy Hill
  Farm\n686 Stockbridge Road (Route 7) Great Barrington     \n\n \n\n
 If you prefer to pick earlier in the day\, or will be in central/north cou
 nty\, join us at 10 am at\n\nLakeview Orchards              
                                      
      \n94 Old Cheshire Road\, Lanesborough  \n\nRSVP to Susan at 413
 -442-4360\, ext. 14 or slehre...
DTSTART;TZID=America/New_York:20180916T150000
DTEND;TZID=America/New_York:20180916T170000
END:VEVENT
END:VCALENDAR
