BEGIN:VCALENDAR
PRODID:-//eluceo/ical//2.0/EN
VERSION:2.0
CALSCALE:GREGORIAN
BEGIN:VEVENT
UID:4addcdb5e2cccc3f4af602f1319ba9ee
DTSTAMP:20260423T093351Z
SUMMARY:Familiar Songs and Their Unfamiliar Stories
DESCRIPTION:Jewish Federation of the Berkshires\nJewish Federation of the B
 erkshires\nhttps://jewishberkshires.org/jewish-federation-of-the-berkshire
 s/familiar-songs-and-their-unfamiliar-stories-307803\n\nThe Jewish Federat
 ion Connecting with Community presents "Familiar Songs and Their Unfamilia
 r Stories." 
DTSTART;TZID=America/New_York:20190603T104500
DTEND;TZID=America/New_York:20190603T120000
END:VEVENT
END:VCALENDAR
