BEGIN:VCALENDAR
PRODID:-//eluceo/ical//2.0/EN
VERSION:2.0
CALSCALE:GREGORIAN
BEGIN:VEVENT
UID:3dde0abd0346027926cc8bbe7878baba
DTSTAMP:20260424T064650Z
SUMMARY:False Messiah: The Life and Impact of Shabbetai Tzvi
DESCRIPTION:Jewish Federation of the Berkshires\nJewish Federation of the B
 erkshires\nhttps://jewishberkshires.org/jewish-federation-of-the-berkshire
 s/false-messiah-the-life-and-impact-of-shabbetai-tzvi-289767\n\n Rabbi Bar
 bara Cohen of Congregation Ahavath Sholom in Great Barrington for "Shabbet
 ai Tzvi\, 17th Century False Messiah."
DTSTART;TZID=America/New_York:20181129T104500
DTEND;TZID=America/New_York:20181129T120000
END:VEVENT
END:VCALENDAR
