BEGIN:VCALENDAR
PRODID:-//eluceo/ical//2.0/EN
VERSION:2.0
CALSCALE:GREGORIAN
BEGIN:VEVENT
UID:f1502caed32c93719ccbbd732f5c390f
DTSTAMP:20260423T043845Z
SUMMARY:Evening with Pulitzer Prize Winning Journalist & Author Thomas L. F
 riedman
DESCRIPTION:Jewish Federation of the Berkshires\nJewish Federation of the B
 erkshires\nhttps://jewishberkshires.org/jewish-federation-of-the-berkshire
 s/evening-with-pulitzer-prize-winning-journalist-author-thomas-l-friedman-
 399537\n\nVia Zoom\n\nRegister Here\n\nJoin us for an evening with acclaim
 ed author Thomas Friedman as he discusses the big trends shaping the worl
 d today: Economics\, Technology\, & Geo-Politics. \nBestselling author of
  The World is Flat and New York Times foreign affairs columnist Tom Friedm
 an is renowned for his direct reporting and accessible analysis of complex
  issues shaping the world. According to Foreign Policy magazine\, “Fried
 man doesn't just report on events\; he helps shape them.” Winner ...
DTSTART;TZID=America/New_York:20220410T210000
DTEND;TZID=America/New_York:20220410T220000
END:VEVENT
END:VCALENDAR
