BEGIN:VCALENDAR
PRODID:-//eluceo/ical//2.0/EN
VERSION:2.0
CALSCALE:GREGORIAN
BEGIN:VEVENT
UID:6dba75296184447314c49dd33513a46a
DTSTAMP:20260424T052306Z
SUMMARY:Elections in Israel: What Happened and What Can We Expect Now?
DESCRIPTION:Jewish Federation of the Berkshires\nJewish Federation of the B
 erkshires\nhttps://jewishberkshires.org/jewish-federation-of-the-berkshire
 s/elections-in-israel-what-happened-and-what-can-we-expect-now-419238\n\n2
 4 hours after the polls close in Israel\, join Federation for an exclusive
  briefing with the Senior Contributing Editor and Diplomatic Correspondent
  of The Jerusalem Post\, Lahav Harkov. More Info and register.  \n\n \n
 \nLearn how Israeli elections work: Israel Elections 101
DTSTART;TZID=America/New_York:20221102T150000
DTEND;TZID=America/New_York:20221102T160000
END:VEVENT
END:VCALENDAR
