BEGIN:VCALENDAR
PRODID:-//eluceo/ical//2.0/EN
VERSION:2.0
CALSCALE:GREGORIAN
BEGIN:VEVENT
UID:5617ba706bbc575c25b28b30638ab3c2
DTSTAMP:20260425T002022Z
SUMMARY:Eating Identity: Yemeni Jewish Migration and Foodways
DESCRIPTION:Jewish Federation of the Berkshires\nJewish Federation of the B
 erkshires\nhttps://jewishberkshires.org/jewish-federation-of-the-berkshire
 s/eating-identity-yemeni-jewish-migration-and-foodways-503831\n\nVia Zoom.
   Please register HERE.\n\nYemeni Jewish immigrants brought a diverse set
  of foods and food practices with them as they moved to Palestine and late
 r Israel. They preserved many of these\, both to remain linked to Yemen\, 
 and to assert ethnic distinctiveness in Israel. Migration\, however\, alwa
 ys provokes changes in foodways. Immigrants encounter new comestibles and 
 cooking techniques\, and their traditional ingredients may be inaccessible
  or expensive. Moreover\, migration changes the wa...
DTSTART;TZID=America/New_York:20260312T104500
DTEND;TZID=America/New_York:20260312T120000
END:VEVENT
END:VCALENDAR
