BEGIN:VCALENDAR
PRODID:-//eluceo/ical//2.0/EN
VERSION:2.0
CALSCALE:GREGORIAN
BEGIN:VEVENT
UID:66d2429c63672f6b713b3022a9887121
DTSTAMP:20260421T030238Z
SUMMARY:Disguised as Clark Kent: Jews\, Comics\, and the Creation of the Su
 perhero
DESCRIPTION:Jewish Federation of the Berkshires\nJewish Federation of the B
 erkshires\nhttps://jewishberkshires.org/jewish-federation-of-the-berkshire
 s/disguised-as-clark-kent-jews-comics-and-the-creation-of-the-superhero-38
 2347\n\nVia Zoom\n\nRegister Here\n\nAfter registering\, you will receive 
 a confirmation email containing information about joining the meeting\n\n\
 n\nDanny Fingeroth\, the author of the definitive book on Jews and comics\
 , Disguised as Clark Kent: Jews\, Comics\, and the Creation of the Superhe
 ro\, will explore the backgrounds of the largely young Jewish-American fro
 m Eastern European backgrounds who created the most well-known superheroes
  who are so prominent in current popular culture\, notably in mo...
DTSTART;TZID=America/New_York:20210816T184500
DTEND;TZID=America/New_York:20210816T194500
END:VEVENT
END:VCALENDAR
