BEGIN:VCALENDAR
PRODID:-//eluceo/ical//2.0/EN
VERSION:2.0
CALSCALE:GREGORIAN
BEGIN:VEVENT
UID:2058d1c049d3da9c7eca3cafc7b4ebd5
DTSTAMP:20260424T080011Z
SUMMARY:Current Events Seminar with Professor Steve Rubin
DESCRIPTION:Jewish Federation of the Berkshires\nJewish Federation of the B
 erkshires\nhttps://jewishberkshires.org/jewish-federation-of-the-berkshire
 s/current-events-seminar-with-professor-steve-rubin-aug-17-432093\n\nThe C
 urrent Events Seminar will focus on the latest world happenings. Participa
 nts will have an opportunity to examine and discuss topical and newsworthy
  national and international issues\, problems\, and possible solutions. Fo
 r each session\, the moderator will suggest readings\, introduce relevant 
 topics\, and offer discussion questions. The seminar will be conducted thr
 oughout in a collaborative and collegial manner\, with all participants en
 couraged to voice their opinions.\n\nSteve Rubin\, Ph.D...
DTSTART;TZID=America/New_York:20230817T104500
DTEND;TZID=America/New_York:20230817T114500
END:VEVENT
END:VCALENDAR
