BEGIN:VCALENDAR
PRODID:-//eluceo/ical//2.0/EN
VERSION:2.0
CALSCALE:GREGORIAN
BEGIN:VEVENT
UID:ad15e3bd307f1e4d261565e692b755d7
DTSTAMP:20260424T121837Z
SUMMARY:Current Events Seminar with Dr. Steven Rubin
DESCRIPTION:Jewish Federation of the Berkshires\nJewish Federation of the B
 erkshires\nhttps://jewishberkshires.org/jewish-federation-of-the-berkshire
 s/current-events-seminar-with-dr-steven-rubin-507636\n\nThe Current Events
  Seminar will focus on the latest world happenings. Participants will hav
 e an opportunity to examine and discuss topical and newsworthy national an
 d international issues and problems\, as well as possible solutions. For e
 ach session\, the moderator will suggest readings\, introduce relevant top
 ics\, and offer discussion questions. The seminar will be conducted throug
 hout in a collaborative and collegial manner\, with all participants encou
 raged to voice their opinions.\n\nSteve ...
DTSTART;TZID=America/New_York:20260820T104500
DTEND;TZID=America/New_York:20260820T120000
END:VEVENT
END:VCALENDAR
