BEGIN:VCALENDAR
PRODID:-//eluceo/ical//2.0/EN
VERSION:2.0
CALSCALE:GREGORIAN
BEGIN:VEVENT
UID:13e3d1f3abeaeb66a32b4fd44006aa1a
DTSTAMP:20260423T055830Z
SUMMARY:Crossing the Line: Anti-Semitism\, BDS and Civil Rights
DESCRIPTION:Jewish Federation of the Berkshires\nJewish Federation of the B
 erkshires\nhttps://jewishberkshires.org/jewish-federation-of-the-berkshire
 s/crossing-the-line-anti-semitism-bds-and-civil-rights-265472\n\nSupporter
 s of legislation penalizing those who boycott Israel argue that this legis
 lation keeps government on the  “right side” of discrimination. Oppone
 nts argue that such legislation violates the spirit\, and the letter\, of 
 the First Amendment. What are the arguments on both sides? And when—if e
 ver—does anti-Israelism cross a line into anti-Semitism?
DTSTART;TZID=America/New_York:20180511T104500
DTEND;TZID=America/New_York:20180511T130000
END:VEVENT
END:VCALENDAR
