BEGIN:VCALENDAR
PRODID:-//eluceo/ical//2.0/EN
VERSION:2.0
CALSCALE:GREGORIAN
BEGIN:VEVENT
UID:756a89125cac870a97aebd901e134ec1
DTSTAMP:20260424T234215Z
SUMMARY:"Core Stability\, Flexible Feet\, and Balance with Carol Bennett"
DESCRIPTION:Jewish Federation of the Berkshires\nJewish Federation of the B
 erkshires\nhttps://jewishberkshires.org/jewish-federation-of-the-berkshire
 s/core-stability-flexible-feet-and-balance-with-carol-bennett-173045\n\nTh
 e Jewish Federation of the Berkshires Connecting with Community series pre
 sents "Core Stability\, Flexible Feet\, and Balance" with Carol Bennett. 
DTSTART;TZID=America/New_York:20160111T104500
DTEND;TZID=America/New_York:20160111T120000
END:VEVENT
END:VCALENDAR
