BEGIN:VCALENDAR
PRODID:-//eluceo/ical//2.0/EN
VERSION:2.0
CALSCALE:GREGORIAN
BEGIN:VEVENT
UID:af18bf00ffc9c30114e555f7103ed654
DTSTAMP:20260424T144052Z
SUMMARY:Contemporary Jew Hatred in Universities and Popular Culture in Amer
 ica
DESCRIPTION:Jewish Federation of the Berkshires\nJewish Federation of the B
 erkshires\nhttps://jewishberkshires.org/jewish-federation-of-the-berkshire
 s/contemporary-jew-hatred-in-universities-and-popular-culture-in-america-4
 20567\n\nRESCHEDULED Virtual program.  Please register HERE\n\nRespected
  scholar\, author and speaker\, Dr. Charles Asher Small will explore issue
 s of contemporary Jew hatred in the United States including antisemitism i
 n American universities\, popular culture\, and hip hop.\n\nDr. Small is t
 he Founder and Executive Director of International Study of Global Antisem
 itism and Policy (ISGAP) and the Director of the Fellowship Training Progr
 amme on Critical Antisemitism Studies at Woolf Institute\, Cambridg...
DTSTART;TZID=America/New_York:20230323T184500
DTEND;TZID=America/New_York:20230323T200000
END:VEVENT
END:VCALENDAR
