BEGIN:VCALENDAR
PRODID:-//eluceo/ical//2.0/EN
VERSION:2.0
CALSCALE:GREGORIAN
BEGIN:VEVENT
UID:57c6e7cc8e5b85a5274654d59af102e1
DTSTAMP:20260422T005748Z
SUMMARY:Community Yom HaShoah Observance 2026
DESCRIPTION:Jewish Federation of the Berkshires\nJewish Federation of the B
 erkshires\nhttps://jewishberkshires.org/jewish-federation-of-the-berkshire
 s/community-yom-hashoah-2026-498177\n\nThe Grey Zone: Stories\, Performanc
 e\, and Candle lighting in honor of Yom HaShoah\n\nTickets are required. S
 eating is limited and registration is on a first-come\, first-served basis
 .*\n\nPlease register HERE.\n\nJoin us for a moving community commemorati
 on of Yom HaShoah – Holocaust Remembrance Day\, focusing on the concept 
 of the “grey zone” developed by Holocaust survivor and writer Primo Le
 vi. Levi explored the morally complex relationships between Nazis and pris
 oners in Auschwitz\, no...
DTSTART;TZID=America/New_York:20260412T140000
DTEND;TZID=America/New_York:20260412T153000
END:VEVENT
END:VCALENDAR
