BEGIN:VCALENDAR
PRODID:-//eluceo/ical//2.0/EN
VERSION:2.0
CALSCALE:GREGORIAN
BEGIN:VEVENT
UID:aed1140f9fd9f21728a54af4308529a2
DTSTAMP:20260425T221758Z
SUMMARY:Community-Wide Hootenany Havdalah
DESCRIPTION:Jewish Federation of the Berkshires\nJewish Federation of the B
 erkshires\nhttps://jewishberkshires.org/jewish-federation-of-the-berkshire
 s/community-wide-hootenany-havdalah-422033\n\nJoin Berkshire Rabbis and Je
 wish musicians from our own congregations including Hevreh's artist-in-re
 sidence\, Peri Smilow\, for an inspirational evening of singing\, jamming
  and schmoozing.  \n\n \n\nAll ages welcome!  Bring your own tambourin
 e\, maracas or musical shaker to join the fun! \n\nAlso available vial li
 vestream at Knessetisrael.org/livestream\n\nThis event is co-sponsored by
  The Jewish Federation of the Berkshires\, Hevreh of Southern Berkshire\, 
 Knesset Israel\, Congregation A...
DTSTART;TZID=America/New_York:20230204T190000
DTEND;TZID=America/New_York:20230204T203000
END:VEVENT
END:VCALENDAR
