BEGIN:VCALENDAR
PRODID:-//eluceo/ical//2.0/EN
VERSION:2.0
CALSCALE:GREGORIAN
BEGIN:VEVENT
UID:9a6138e9ea23ecf6eeddd43ad7b7f12c
DTSTAMP:20260421T005854Z
SUMMARY:Community Wide Havdalah
DESCRIPTION:Jewish Federation of the Berkshires\nJewish Federation of the B
 erkshires\nhttps://jewishberkshires.org/jewish-federation-of-the-berkshire
 s/community-wide-havdalah-394647\n\nJoin your Berkshire rabbis and storyte
 ller Allison Lerman-Gluck for an inspirational evening featuring two origi
 nal stories of finding light in the darkness.
DTSTART;TZID=America/New_York:20220305T191500
DTEND;TZID=America/New_York:20220305T201500
END:VEVENT
END:VCALENDAR
