BEGIN:VCALENDAR
PRODID:-//eluceo/ical//2.0/EN
VERSION:2.0
CALSCALE:GREGORIAN
BEGIN:VEVENT
UID:28d84f9771f798002742408b397730f6
DTSTAMP:20260421T231948Z
SUMMARY:Community Support for the Emotional Challenges of Living Through a 
 Pandemic
DESCRIPTION:Jewish Federation of the Berkshires\nJewish Federation of the B
 erkshires\nhttps://jewishberkshires.org/jewish-federation-of-the-berkshire
 s/community-support-for-the-emotional-challenges-of-living-through-a-pande
 mic-370631\n\nprogram opportunity will provide a place for connection and 
 meaningful conversation and mutual exchange of ideas during this time of t
 he pandemic\, in a safe and confidential space
DTSTART;TZID=America/New_York:20210107T160000
DTEND;TZID=America/New_York:20210107T170000
END:VEVENT
END:VCALENDAR
