BEGIN:VCALENDAR
PRODID:-//eluceo/ical//2.0/EN
VERSION:2.0
CALSCALE:GREGORIAN
BEGIN:VEVENT
UID:8915327fecca4e1a76c6c96609a64867
DTSTAMP:20260420T130004Z
SUMMARY:Community Support for the Emotional Challenges of Living Through a 
 Pandemic
DESCRIPTION:Jewish Federation of the Berkshires\nJewish Federation of the B
 erkshires\nhttps://jewishberkshires.org/jewish-federation-of-the-berkshire
 s/community-support-for-the-emotional-challenges-of-living-through-a-pande
 mic----370641\n\nvia Zoom\n\nRegister Here\n\nAfter registering\, you will
  receive a confirmation email containing information about joining the mee
 ting\n\nPlease join Ani Nadler Grosser\, LICSW/licensed psychotherapist an
 d stress management specialist\, who has been facilitating groups for the 
 past 30 years. This program opportunity will provide a place for connectio
 n and meaningful conversation and mutual exchange of ideas during this tim
 e of the pandemic. In a safe and confidential space\, we will have the opp
 ...
DTSTART;TZID=America/New_York:20210121T160000
DTEND;TZID=America/New_York:20210121T170000
END:VEVENT
END:VCALENDAR
