BEGIN:VCALENDAR
PRODID:-//eluceo/ical//2.0/EN
VERSION:2.0
CALSCALE:GREGORIAN
BEGIN:VEVENT
UID:709fb416b28512873bf371bcff936154
DTSTAMP:20260423T153020Z
SUMMARY:Grab & Go Kosher Passover Seder Meals
DESCRIPTION:Jewish Federation of the Berkshires\nJewish Federation of the B
 erkshires\nhttps://jewishberkshires.org/jewish-federation-of-the-berkshire
 s/community-passover-seder-24900\n\nGrab & Go Kosher Passover Seder Meals
DTSTART;TZID=America/New_York:20200408T093000
DTEND;TZID=America/New_York:20200408T123000
END:VEVENT
END:VCALENDAR
