BEGIN:VCALENDAR
PRODID:-//eluceo/ical//2.0/EN
VERSION:2.0
CALSCALE:GREGORIAN
BEGIN:VEVENT
UID:d940f7052287ac38d3d94d8c3356ffcc
DTSTAMP:20260425T204210Z
SUMMARY:Community Havdalah and Concert Featuring Pizmon
DESCRIPTION:Jewish Federation of the Berkshires\nJewish Federation of the B
 erkshires\nhttps://jewishberkshires.org/jewish-federation-of-the-berkshire
 s/community-havdallah-and-concert-featuring-pizmon-294819\n\nCommunity Wid
 e Havdalah and Concert
DTSTART;TZID=America/New_York:20190202T191500
DTEND;TZID=America/New_York:20190202T213000
END:VEVENT
END:VCALENDAR
