BEGIN:VCALENDAR
PRODID:-//eluceo/ical//2.0/EN
VERSION:2.0
CALSCALE:GREGORIAN
BEGIN:VEVENT
UID:319d96c1ae4be59bb31d63517f45392e
DTSTAMP:20260422T113712Z
SUMMARY:CATA: Nurturing Inclusion Through the Arts with Margaret Keller
DESCRIPTION:Jewish Federation of the Berkshires\nJewish Federation of the B
 erkshires\nhttps://jewishberkshires.org/jewish-federation-of-the-berkshire
 s/community-access-to-the-arts-401249\n\nPlease note:  Proof of vaccinati
 on for those eligible is required.  Masks are optional but encouraged.\n\
 nJoin us for a talk led by Margaret Keller\, Executive Director of Communi
 ty Access to the Arts (CATA)\, a nonprofit that nurtures and celebrates th
 e creativity of people with disabilities. Throughout the year\, CATA provi
 des vibrant arts programs to more than 800 people across our community - c
 hildren\, teens\, and adults with developmental and intellectual disabilit
 ies\, elders with Alzheime...
DTSTART;TZID=America/New_York:20220707T104500
DTEND;TZID=America/New_York:20220707T120000
END:VEVENT
END:VCALENDAR
