BEGIN:VCALENDAR
PRODID:-//eluceo/ical//2.0/EN
VERSION:2.0
CALSCALE:GREGORIAN
BEGIN:VEVENT
UID:6839cff82beaf03f43539e7464e7c76f
DTSTAMP:20260422T234149Z
SUMMARY:Chanukkah at the Co-op: Berkshire Jewish Collective 20’s\, 30’s
 \, 40’s Event
DESCRIPTION:Jewish Federation of the Berkshires\nJewish Federation of the B
 erkshires\nhttps://jewishberkshires.org/jewish-federation-of-the-berkshire
 s/chanukkah-at-the-co-op-berkshire-jewish-collective-20s-30s-40s-event-504
 135\n\nPlease Register HERE.\n\nJoin us for a fun\, light-filled Chanukka
 h event upstairs at the Berkshire Food Co-op in Great Barrington. Drop in 
 any time between 5:00pm and 7:30pm.\n\nCandle lighting\, dreidels\, games\
 , latkes (and dinner food)\, sufganiyot and joy!\n\nFocus on the fifth nig
 ht of the festival\, the coming new moon\, and the changing of the light.\
 n\nSingles\, couples and families with kids all welcome!\n\nPlease bring a
  shelf-stable food item to donate to our local community.\n\nFor mor...
DTSTART;TZID=America/New_York:20251218T170000
DTEND;TZID=America/New_York:20251218T193000
END:VEVENT
END:VCALENDAR
