BEGIN:VCALENDAR
PRODID:-//eluceo/ical//2.0/EN
VERSION:2.0
CALSCALE:GREGORIAN
BEGIN:VEVENT
UID:686888aff38979a59039fd089a6c00e4
DTSTAMP:20260421T014058Z
SUMMARY:Chanukah Cooking with   Chef Michael Solomonov
DESCRIPTION:Jewish Federation of the Berkshires\nJewish Federation of the B
 erkshires\nhttps://jewishberkshires.org/jewish-federation-of-the-berkshire
 s/chanukah-cooking-with-chef-michael-solomonov-365837\n\nA Chanukah gift t
 o the community from the Jewish Federation of the Berkshires
DTSTART;TZID=America/New_York:20201202T200000
DTEND;TZID=America/New_York:20201202T210000
END:VEVENT
END:VCALENDAR
