BEGIN:VCALENDAR
PRODID:-//eluceo/ical//2.0/EN
VERSION:2.0
CALSCALE:GREGORIAN
BEGIN:VEVENT
UID:767094dba20764c5dbcf539e04b1f6cb
DTSTAMP:20260422T184159Z
SUMMARY:Challahday Baking with Mandylicious
DESCRIPTION:Jewish Federation of the Berkshires\nJewish Federation of the B
 erkshires\nhttps://jewishberkshires.org/jewish-federation-of-the-berkshire
 s/challahday-baking-with-mandylicious-360033\n\nmaking challah for the hol
 idays that will truly take your dinner table to the next level
DTSTART;TZID=America/New_York:20200914T184500
DTEND;TZID=America/New_York:20200914T194500
END:VEVENT
END:VCALENDAR
