BEGIN:VCALENDAR
PRODID:-//eluceo/ical//2.0/EN
VERSION:2.0
CALSCALE:GREGORIAN
BEGIN:VEVENT
UID:cb11947d6d08c1106318bafc41db38ba
DTSTAMP:20260424T040206Z
SUMMARY:Easy Chair Yoga for Flexibility\, Mobility and Peace of Mind
DESCRIPTION:Jewish Federation of the Berkshires\nJewish Federation of the B
 erkshires\nhttps://jewishberkshires.org/jewish-federation-of-the-berkshire
 s/chair-yoga-----255424\n\nThe Jewish Federation Connecting with Community
  presents Chair Yoga with instructor Linda Novick.
DTSTART;TZID=America/New_York:20200220T104500
DTEND;TZID=America/New_York:20200220T120000
END:VEVENT
END:VCALENDAR
