BEGIN:VCALENDAR
PRODID:-//eluceo/ical//2.0/EN
VERSION:2.0
CALSCALE:GREGORIAN
BEGIN:VEVENT
UID:577214eb352c5da6f394f7b1a003b17b
DTSTAMP:20260423T170248Z
SUMMARY:Celebrate Chanukah at NightWood 2023! NEW DATE DEC 14th
DESCRIPTION:Jewish Federation of the Berkshires\nJewish Federation of the B
 erkshires\nhttps://jewishberkshires.org/jewish-federation-of-the-berkshire
 s/celebrate-chanukah-at-nightwood-2023-448454\n\nPLEASE NOTE: DUE TO INCLE
 MENT WEATHER THIS EVENT WILL NOW TAKE PLACE ON THURSDAY\, DECEMBER 14TH. T
 HE MENORAH LIGHTING AND PROGRAM WILL TAKE PLACE AT 7 PM AT THE MANSION FOR
 ECOURT. \n\nImmerse Yourself in NightWood\n\nStroll through an ethereal w
 inter landscape and immerse yourself in sound\, light\, and color.  Night
 Wood 2023 combines innovative and immersive music\, lighting and theatrica
 l elements on a ¾ mile walking path to create unique scenes (including 4
  brand new installations) that...
DTSTART;TZID=America/New_York:20231214T180000
DTEND;TZID=America/New_York:20231214T193000
END:VEVENT
END:VCALENDAR
