BEGIN:VCALENDAR
PRODID:-//eluceo/ical//2.0/EN
VERSION:2.0
CALSCALE:GREGORIAN
BEGIN:VEVENT
UID:2bbb224ce6aed45fd12f68ae57638f0a
DTSTAMP:20260421T170819Z
SUMMARY:Cancelled: Carl Jung and the Book of Job
DESCRIPTION:Jewish Federation of the Berkshires\nJewish Federation of the B
 erkshires\nhttps://jewishberkshires.org/jewish-federation-of-the-berkshire
 s/carl-jung-and-the-book-of-job-347199\n\nWhy do bad things happen to good
  people?  This perennial question will be explored.
DTSTART;TZID=America/New_York:20200604T104500
DTEND;TZID=America/New_York:20200604T120000
END:VEVENT
END:VCALENDAR
