BEGIN:VCALENDAR
PRODID:-//eluceo/ical//2.0/EN
VERSION:2.0
CALSCALE:GREGORIAN
BEGIN:VEVENT
UID:b680b6b2f4e090f81953fcaad54fbfff
DTSTAMP:20260422T103142Z
SUMMARY:Cannabis Medicine and Cannabis Industry
DESCRIPTION:Jewish Federation of the Berkshires\nJewish Federation of the B
 erkshires\nhttps://jewishberkshires.org/jewish-federation-of-the-berkshire
 s/cannabis-medicine-and-cannabis-industry-339477\n\nCannabis products and 
 the emerging industry.
DTSTART;TZID=America/New_York:20200305T104500
DTEND;TZID=America/New_York:20200305T120000
END:VEVENT
END:VCALENDAR
