BEGIN:VCALENDAR
PRODID:-//eluceo/ical//2.0/EN
VERSION:2.0
CALSCALE:GREGORIAN
BEGIN:VEVENT
UID:1884136ded43515dcf30f3d6046acc63
DTSTAMP:20260422T065036Z
SUMMARY:Blueprint for Justice and Safety: Conversation with D.A. Andrea Har
 rington
DESCRIPTION:Jewish Federation of the Berkshires\nJewish Federation of the B
 erkshires\nhttps://jewishberkshires.org/jewish-federation-of-the-berkshire
 s/blueprint-for-justice-and-safety-conversation-with-da-andrea-harrington-
 -398962\n\nVia Zoom\n\nRegister Here\n\nDistrict Attorney Andrea Harringto
 n presents her “Blueprint for Safety and Justice.” The presentation ou
 tlines the District Attorney’s vision for Berkshire County’s justice s
 ystem\, shares significant reforms the office has implemented\, and provid
 es prosecutorial data points.\n\nFollowing the presentation\, the District
  Attorney welcomes open dialogue and encourages those attending to ask que
 stions and share their thoughts and ideas.\n\nAndrea Harrington is ...
DTSTART;TZID=America/New_York:20220303T184500
DTEND;TZID=America/New_York:20220303T194500
END:VEVENT
END:VCALENDAR
