BEGIN:VCALENDAR
PRODID:-//eluceo/ical//2.0/EN
VERSION:2.0
CALSCALE:GREGORIAN
BEGIN:VEVENT
UID:86af85a713d2c936f048caf75f04e892
DTSTAMP:20260420T231251Z
SUMMARY:Filmed in the Berkshires:  A Conversation with Diane Pearlman
DESCRIPTION:Jewish Federation of the Berkshires\nJewish Federation of the B
 erkshires\nhttps://jewishberkshires.org/jewish-federation-of-the-berkshire
 s/berkshires-film-and-media-collaborative-401248\n\nPlease note:  Proof o
 f vaccination for those eligible is required.  Masks are optional but enc
 ouraged.\n\nThe Berkshires Film and Media Collaborative (BFMC) creates edu
 cational\, workforce\, and production opportunities in the film and media 
 industry as an economic initiative for the western Massachusetts region. 
  Executive Director of BFMC\, Diane Pearlman\, will discuss the Berkshires
  as a destination for film and media production and highlight films produc
 ed in the area. She will also discu...
DTSTART;TZID=America/New_York:20220721T104500
DTEND;TZID=America/New_York:20220721T120000
END:VEVENT
END:VCALENDAR
