BEGIN:VCALENDAR
PRODID:-//eluceo/ical//2.0/EN
VERSION:2.0
CALSCALE:GREGORIAN
BEGIN:VEVENT
UID:97df53e7ad972a792e29f3bdf94c966d
DTSTAMP:20260422T144112Z
SUMMARY:Berkshire Women's Mega Challah Bake
DESCRIPTION:Jewish Federation of the Berkshires\nJewish Federation of the B
 erkshires\nhttps://jewishberkshires.org/jewish-federation-of-the-berkshire
 s/berkshire-womens-challah-bake-1463417435-190785\n\nJoin Jewish Women and
  girls from across Berkshire County for an afternoon of unity and inspirat
 ion
DTSTART;TZID=America/New_York:20160624T130000
DTEND;TZID=America/New_York:20160624T150000
END:VEVENT
END:VCALENDAR
